BEGIN:VCALENDAR
VERSION:2.0
PRODID:-// - ECPv4.7.1//NONSGML v1.0//EN
CALSCALE:GREGORIAN
METHOD:PUBLISH
X-ORIGINAL-URL:https://gcc.vic.edu.au
X-WR-CALDESC:Events for 
BEGIN:VEVENT
DTSTART;VALUE=DATE:20180323
DTEND;VALUE=DATE:20180324
DTSTAMP:20210301T105747
CREATED:20180317T070923Z
LAST-MODIFIED:20180317T070923Z
UID:4761-1521763200-1521849599@gcc.vic.edu.au
SUMMARY:Report Writing Day (Student Free)
DESCRIPTION:
URL:https://gcc.vic.edu.au/event/report-writing-day-student-free-4/
END:VEVENT
END:VCALENDAR