BEGIN:VCALENDAR
VERSION:2.0
PRODID:-// - ECPv4.7.1//NONSGML v1.0//EN
CALSCALE:GREGORIAN
METHOD:PUBLISH
X-ORIGINAL-URL:https://gcc.vic.edu.au
X-WR-CALDESC:Events for 
BEGIN:VEVENT
DTSTART;VALUE=DATE:20170630
DTEND;VALUE=DATE:20170701
DTSTAMP:20210301T110152
CREATED:20170520T084224Z
LAST-MODIFIED:20170524T071544Z
UID:4155-1498780800-1498867199@gcc.vic.edu.au
SUMMARY:Last day of Term 2
DESCRIPTION:
URL:https://gcc.vic.edu.au/event/last-day-term-2/
CATEGORIES:Grace Christian College
END:VEVENT
END:VCALENDAR