BEGIN:VCALENDAR
VERSION:2.0
PRODID:-// - ECPv4.7.1//NONSGML v1.0//EN
CALSCALE:GREGORIAN
METHOD:PUBLISH
X-ORIGINAL-URL:https://gcc.vic.edu.au
X-WR-CALDESC:Events for 
BEGIN:VEVENT
DTSTART;VALUE=DATE:20171115
DTEND;VALUE=DATE:20171116
DTSTAMP:20210301T105517
CREATED:20170520T090230Z
LAST-MODIFIED:20170524T071135Z
UID:4182-1510704000-1510790399@gcc.vic.edu.au
SUMMARY:Kanga Cricket
DESCRIPTION:Term 4 / times to be advised closer to the event date \n
URL:https://gcc.vic.edu.au/event/kanga-cricket/
CATEGORIES:Grace Christian College
END:VEVENT
END:VCALENDAR